<?xml version="1.0" encoding="UTF-8"?>
<Capabilities version="1.0.0"
    xmlns="http://www.opengis.net/wmts/1.0"
    xmlns:ows="http://www.opengis.net/ows/1.1"
    xmlns:xlink="http://www.w3.org/1999/xlink"
    xmlns:xsi="http://www.w3.org/2001/XMLSchema-instance"
    xmlns:gml="http://www.opengis.net/gml"
    xsi:schemaLocation="http://schemas.opengis.net/wmts/1.0/wmtsGetCapabilities_response.xsd">
  <ows:ServiceIdentification>
    <ows:Title>Geoportal des Kantons Schwyz</ows:Title>
    <ows:Abstract>WMTS-Datendienste aus dem Geoportal SZ</ows:Abstract>
    <ows:Keywords>
        <ows:Keyword>WMTS</ows:Keyword>
        <ows:Keyword>OGC</ows:Keyword>
    </ows:Keywords>
    <ows:ServiceType>OGC WMTS</ows:ServiceType>
    <ows:ServiceTypeVersion>1.0.0</ows:ServiceTypeVersion>
    <ows:Fees>None</ows:Fees>
    <ows:AccessConstraint>None</ows:AccessConstraint>
  </ows:ServiceIdentification>
  <ows:ServiceProvider>
    <ows:ProviderName>Geoportal des Kantons Schwyz</ows:ProviderName>
    <ows:ProviderSite>www.sz.ch/geodienste</ows:ProviderSite>
    <ows:ServiceContact>
      <ows:IndividualName>Amt für Geoinformation</ows:IndividualName>
      <ows:PositionName>None</ows:PositionName>
      <ows:ContactInfo>
        <ows:Phone>
          <ows:Voice>+41 41 819 25 25</ows:Voice>
          <ows:Facsimile>+41 41 819 25 25</ows:Facsimile>
        </ows:Phone>
        <ows:Address>
          <ows:DeliveryPoint>Bahnhofstrasse 16</ows:DeliveryPoint>
          <ows:City>Schwyz</ows:City>
          <ows:AdministrativeArea>SZ</ows:AdministrativeArea>
          <ows:PostalCode>6431</ows:PostalCode>
          <ows:Country>Switzerland</ows:Country>
          <ows:ElectronicMailAddress>geoportal@sz.ch</ows:ElectronicMailAddress>
        </ows:Address>
      </ows:ContactInfo>
    </ows:ServiceContact>
  </ows:ServiceProvider>
  <ows:OperationsMetadata>
    <ows:Operation name="GetCapabilities">
      <ows:DCP>
        <ows:HTTP>
          <ows:Get xlink:href="https://map.geo.sz.ch/tiles/1.0.0/WMTSCapabilities.xml">
            <ows:Constraint name="GetEncoding">
              <ows:AllowedValues>
                <ows:Value>REST</ows:Value>
              </ows:AllowedValues>
            </ows:Constraint>
          </ows:Get>
          <ows:Get xlink:href="https://map.geo.sz.ch/tiles/">
            <ows:Constraint name="GetEncoding">
              <ows:AllowedValues>
                <ows:Value>KVP</ows:Value>
              </ows:AllowedValues>
            </ows:Constraint>
          </ows:Get>
        </ows:HTTP>
      </ows:DCP>
    </ows:Operation>
    <ows:Operation name="GetTile">
      <ows:DCP>
        <ows:HTTP>
          <ows:Get xlink:href="https://map.geo.sz.ch/tiles/">
            <ows:Constraint name="GetEncoding">
              <ows:AllowedValues>
                <ows:Value>REST</ows:Value>
                <ows:Value>KVP</ows:Value>
              </ows:AllowedValues>
            </ows:Constraint>
          </ows:Get>
        </ows:HTTP>
      </ows:DCP>
    </ows:Operation>
  </ows:OperationsMetadata>
  <!-- <ServiceMetadataURL xlink:href="" /> -->
  <Contents>
    <Layer>
      <ows:Title>ch_sz_a039_basisplan_farbig</ows:Title>
      <ows:Identifier>ch_sz_a039_basisplan_farbig</ows:Identifier>
      <Style isDefault="true">
        <ows:Identifier>default</ows:Identifier>
      </Style>
      <Format>image/png</Format>
      <Dimension>
        <ows:Identifier>DATE</ows:Identifier>
        <Default>202405</Default>
        <Value>202405</Value>
      </Dimension>
      <ResourceURL format="image/png" resourceType="tile"
                   template="https://map.geo.sz.ch/tiles/1.0.0/ch_sz_a039_basisplan_farbig/default/{DATE}/{TileMatrixSet}/{TileMatrix}/{TileRow}/{TileCol}.png" />
      <TileMatrixSetLink>
        <TileMatrixSet>swissgrid_2056</TileMatrixSet>
      </TileMatrixSetLink>
    </Layer>
    <Layer>
      <ows:Title>ch_sz_a039_basisplan_grau</ows:Title>
      <ows:Identifier>ch_sz_a039_basisplan_grau</ows:Identifier>
      <Style isDefault="true">
        <ows:Identifier>default</ows:Identifier>
      </Style>
      <Format>image/png</Format>
      <Dimension>
        <ows:Identifier>DATE</ows:Identifier>
        <Default>202405</Default>
        <Value>202405</Value>
      </Dimension>
      <ResourceURL format="image/png" resourceType="tile"
                   template="https://map.geo.sz.ch/tiles/1.0.0/ch_sz_a039_basisplan_grau/default/{DATE}/{TileMatrixSet}/{TileMatrix}/{TileRow}/{TileCol}.png" />
      <TileMatrixSetLink>
        <TileMatrixSet>swissgrid_2056</TileMatrixSet>
      </TileMatrixSetLink>
    </Layer>
    <Layer>
      <ows:Title>ch_sz_a162_relief_gelaendeneigung</ows:Title>
      <ows:Identifier>ch_sz_a162_relief_gelaendeneigung</ows:Identifier>
      <Style isDefault="true">
        <ows:Identifier>default</ows:Identifier>
      </Style>
      <Format>image/png</Format>
      <Dimension>
        <ows:Identifier>DATE</ows:Identifier>
        <Default>202005</Default>
        <Value>202005</Value>
      </Dimension>
      <ResourceURL format="image/png" resourceType="tile"
                   template="https://map.geo.sz.ch/tiles/1.0.0/ch_sz_a162_relief_gelaendeneigung/default/{DATE}/{TileMatrixSet}/{TileMatrix}/{TileRow}/{TileCol}.png" />
      <TileMatrixSetLink>
        <TileMatrixSet>swissgrid_2056</TileMatrixSet>
      </TileMatrixSetLink>
    </Layer>
    <Layer>
      <ows:Title>ch_sz_a162_relief_kombination</ows:Title>
      <ows:Identifier>ch_sz_a162_relief_kombination</ows:Identifier>
      <Style isDefault="true">
        <ows:Identifier>default</ows:Identifier>
      </Style>
      <Format>image/png</Format>
      <Dimension>
        <ows:Identifier>DATE</ows:Identifier>
        <Default>202005</Default>
        <Value>202005</Value>
      </Dimension>
      <ResourceURL format="image/png" resourceType="tile"
                   template="https://map.geo.sz.ch/tiles/1.0.0/ch_sz_a162_relief_kombination/default/{DATE}/{TileMatrixSet}/{TileMatrix}/{TileRow}/{TileCol}.png" />
      <TileMatrixSetLink>
        <TileMatrixSet>swissgrid_2056</TileMatrixSet>
      </TileMatrixSetLink>
    </Layer>
    <Layer>
      <ows:Title>ch_sz_a162_relief_schattierung</ows:Title>
      <ows:Identifier>ch_sz_a162_relief_schattierung</ows:Identifier>
      <Style isDefault="true">
        <ows:Identifier>default</ows:Identifier>
      </Style>
      <Format>image/png</Format>
      <Dimension>
        <ows:Identifier>DATE</ows:Identifier>
        <Default>202006</Default>
        <Value>202006</Value>
      </Dimension>
      <ResourceURL format="image/png" resourceType="tile"
                   template="https://map.geo.sz.ch/tiles/1.0.0/ch_sz_a162_relief_schattierung/default/{DATE}/{TileMatrixSet}/{TileMatrix}/{TileRow}/{TileCol}.png" />
      <TileMatrixSetLink>
        <TileMatrixSet>swissgrid_2056</TileMatrixSet>
      </TileMatrixSetLink>
    </Layer>
    <Layer>
      <ows:Title>ch_sz_a250a_kaltluftproduktionsrate</ows:Title>
      <ows:Identifier>ch_sz_a250a_kaltluftproduktionsrate</ows:Identifier>
      <Style isDefault="true">
        <ows:Identifier>default</ows:Identifier>
      </Style>
      <Format>image/png</Format>
      <Dimension>
        <ows:Identifier>DATE</ows:Identifier>
        <Default>CURRENT</Default>
        <Value>CURRENT</Value>
      </Dimension>
      <ResourceURL format="image/png" resourceType="tile"
                   template="https://map.geo.sz.ch/tiles/1.0.0/ch_sz_a250a_kaltluftproduktionsrate/default/{DATE}/{TileMatrixSet}/{TileMatrix}/{TileRow}/{TileCol}.png" />
      <TileMatrixSetLink>
        <TileMatrixSet>swissgrid_2056</TileMatrixSet>
      </TileMatrixSetLink>
    </Layer>
    <Layer>
      <ows:Title>ch_sz_a250a_kaltluftvolumenstromdichte_4h</ows:Title>
      <ows:Identifier>ch_sz_a250a_kaltluftvolumenstromdichte_4h</ows:Identifier>
      <Style isDefault="true">
        <ows:Identifier>default</ows:Identifier>
      </Style>
      <Format>image/png</Format>
      <Dimension>
        <ows:Identifier>DATE</ows:Identifier>
        <Default>CURRENT</Default>
        <Value>CURRENT</Value>
      </Dimension>
      <ResourceURL format="image/png" resourceType="tile"
                   template="https://map.geo.sz.ch/tiles/1.0.0/ch_sz_a250a_kaltluftvolumenstromdichte_4h/default/{DATE}/{TileMatrixSet}/{TileMatrix}/{TileRow}/{TileCol}.png" />
      <TileMatrixSetLink>
        <TileMatrixSet>swissgrid_2056</TileMatrixSet>
      </TileMatrixSetLink>
    </Layer>
    <Layer>
      <ows:Title>ch_sz_a250a_klimakarte_pet_14h</ows:Title>
      <ows:Identifier>ch_sz_a250a_klimakarte_pet_14h</ows:Identifier>
      <Style isDefault="true">
        <ows:Identifier>default</ows:Identifier>
      </Style>
      <Format>image/png</Format>
      <Dimension>
        <ows:Identifier>DATE</ows:Identifier>
        <Default>CURRENT</Default>
        <Value>CURRENT</Value>
      </Dimension>
      <ResourceURL format="image/png" resourceType="tile"
                   template="https://map.geo.sz.ch/tiles/1.0.0/ch_sz_a250a_klimakarte_pet_14h/default/{DATE}/{TileMatrixSet}/{TileMatrix}/{TileRow}/{TileCol}.png" />
      <TileMatrixSetLink>
        <TileMatrixSet>swissgrid_2056</TileMatrixSet>
      </TileMatrixSetLink>
    </Layer>
    <Layer>
      <ows:Title>ch_sz_a250a_klimakarte_temperatur_14h</ows:Title>
      <ows:Identifier>ch_sz_a250a_klimakarte_temperatur_14h</ows:Identifier>
      <Style isDefault="true">
        <ows:Identifier>default</ows:Identifier>
      </Style>
      <Format>image/png</Format>
      <Dimension>
        <ows:Identifier>DATE</ows:Identifier>
        <Default>CURRENT</Default>
        <Value>CURRENT</Value>
      </Dimension>
      <ResourceURL format="image/png" resourceType="tile"
                   template="https://map.geo.sz.ch/tiles/1.0.0/ch_sz_a250a_klimakarte_temperatur_14h/default/{DATE}/{TileMatrixSet}/{TileMatrix}/{TileRow}/{TileCol}.png" />
      <TileMatrixSetLink>
        <TileMatrixSet>swissgrid_2056</TileMatrixSet>
      </TileMatrixSetLink>
    </Layer>
    <Layer>
      <ows:Title>ch_sz_a250a_klimakarte_temperatur_4h</ows:Title>
      <ows:Identifier>ch_sz_a250a_klimakarte_temperatur_4h</ows:Identifier>
      <Style isDefault="true">
        <ows:Identifier>default</ows:Identifier>
      </Style>
      <Format>image/png</Format>
      <Dimension>
        <ows:Identifier>DATE</ows:Identifier>
        <Default>CURRENT</Default>
        <Value>CURRENT</Value>
      </Dimension>
      <ResourceURL format="image/png" resourceType="tile"
                   template="https://map.geo.sz.ch/tiles/1.0.0/ch_sz_a250a_klimakarte_temperatur_4h/default/{DATE}/{TileMatrixSet}/{TileMatrix}/{TileRow}/{TileCol}.png" />
      <TileMatrixSetLink>
        <TileMatrixSet>swissgrid_2056</TileMatrixSet>
      </TileMatrixSetLink>
    </Layer>
    <Layer>
      <ows:Title>ch_sz_a250a_windgeschwindigkeit_4h</ows:Title>
      <ows:Identifier>ch_sz_a250a_windgeschwindigkeit_4h</ows:Identifier>
      <Style isDefault="true">
        <ows:Identifier>default</ows:Identifier>
      </Style>
      <Format>image/png</Format>
      <Dimension>
        <ows:Identifier>DATE</ows:Identifier>
        <Default>CURRENT</Default>
        <Value>CURRENT</Value>
      </Dimension>
      <ResourceURL format="image/png" resourceType="tile"
                   template="https://map.geo.sz.ch/tiles/1.0.0/ch_sz_a250a_windgeschwindigkeit_4h/default/{DATE}/{TileMatrixSet}/{TileMatrix}/{TileRow}/{TileCol}.png" />
      <TileMatrixSetLink>
        <TileMatrixSet>swissgrid_2056</TileMatrixSet>
      </TileMatrixSetLink>
    </Layer>
    <Layer>
      <ows:Title>ch_sz_avg_ortsplan_farbig</ows:Title>
      <ows:Identifier>ch_sz_avg_ortsplan_farbig</ows:Identifier>
      <Style isDefault="true">
        <ows:Identifier>default</ows:Identifier>
      </Style>
      <Format>image/png</Format>
      <Dimension>
        <ows:Identifier>DATE</ows:Identifier>
        <Default>201610</Default>
        <Value>201610</Value>
      </Dimension>
      <ResourceURL format="image/png" resourceType="tile"
                   template="https://map.geo.sz.ch/tiles/1.0.0/ch_sz_avg_ortsplan_farbig/default/{DATE}/{TileMatrixSet}/{TileMatrix}/{TileRow}/{TileCol}.png" />
      <TileMatrixSetLink>
        <TileMatrixSet>swissgrid_2056</TileMatrixSet>
      </TileMatrixSetLink>
    </Layer>
    <Layer>
      <ows:Title>ch_sz_avg_ortsplan_grau</ows:Title>
      <ows:Identifier>ch_sz_avg_ortsplan_grau</ows:Identifier>
      <Style isDefault="true">
        <ows:Identifier>default</ows:Identifier>
      </Style>
      <Format>image/png</Format>
      <Dimension>
        <ows:Identifier>DATE</ows:Identifier>
        <Default>201610</Default>
        <Value>201610</Value>
      </Dimension>
      <ResourceURL format="image/png" resourceType="tile"
                   template="https://map.geo.sz.ch/tiles/1.0.0/ch_sz_avg_ortsplan_grau/default/{DATE}/{TileMatrixSet}/{TileMatrix}/{TileRow}/{TileCol}.png" />
      <TileMatrixSetLink>
        <TileMatrixSet>swissgrid_2056</TileMatrixSet>
      </TileMatrixSetLink>
    </Layer>
    <Layer>
      <ows:Title>ch_sz_freienbach_orthofotos_2010</ows:Title>
      <ows:Identifier>ch_sz_freienbach_orthofotos_2010</ows:Identifier>
      <Style isDefault="true">
        <ows:Identifier>default</ows:Identifier>
      </Style>
      <Format>image/png</Format>
      <Dimension>
        <ows:Identifier>DATE</ows:Identifier>
        <Default>201610</Default>
        <Value>201610</Value>
      </Dimension>
      <ResourceURL format="image/png" resourceType="tile"
                   template="https://map.geo.sz.ch/tiles/1.0.0/ch_sz_freienbach_orthofotos_2010/default/{DATE}/{TileMatrixSet}/{TileMatrix}/{TileRow}/{TileCol}.png" />
      <TileMatrixSetLink>
        <TileMatrixSet>swissgrid_2056</TileMatrixSet>
      </TileMatrixSetLink>
    </Layer>
    <Layer>
      <ows:Title>ch_sz_freienbach_orthofotos_2015</ows:Title>
      <ows:Identifier>ch_sz_freienbach_orthofotos_2015</ows:Identifier>
      <Style isDefault="true">
        <ows:Identifier>default</ows:Identifier>
      </Style>
      <Format>image/png</Format>
      <Dimension>
        <ows:Identifier>DATE</ows:Identifier>
        <Default>201610</Default>
        <Value>201610</Value>
      </Dimension>
      <ResourceURL format="image/png" resourceType="tile"
                   template="https://map.geo.sz.ch/tiles/1.0.0/ch_sz_freienbach_orthofotos_2015/default/{DATE}/{TileMatrixSet}/{TileMatrix}/{TileRow}/{TileCol}.png" />
      <TileMatrixSetLink>
        <TileMatrixSet>swissgrid_2056</TileMatrixSet>
      </TileMatrixSetLink>
    </Layer>
    <TileMatrixSet>
      <ows:Identifier>swissgrid</ows:Identifier>
      <ows:SupportedCRS>urn:ogc:def:crs:EPSG::21781</ows:SupportedCRS>
      <TileMatrix>
        <ows:Identifier>0</ows:Identifier>
        <ScaleDenominator>1785714.285714286</ScaleDenominator>
        <TopLeftCorner>420000 350000</TopLeftCorner>
        <TileWidth>256</TileWidth>
        <TileHeight>256</TileHeight>
        <MatrixWidth>4</MatrixWidth>
        <MatrixHeight>3</MatrixHeight>
      </TileMatrix>
      <TileMatrix>
        <ows:Identifier>1</ows:Identifier>
        <ScaleDenominator>892857.142857143</ScaleDenominator>
        <TopLeftCorner>420000 350000</TopLeftCorner>
        <TileWidth>256</TileWidth>
        <TileHeight>256</TileHeight>
        <MatrixWidth>8</MatrixWidth>
        <MatrixHeight>5</MatrixHeight>
      </TileMatrix>
      <TileMatrix>
        <ows:Identifier>2</ows:Identifier>
        <ScaleDenominator>357142.85714285716</ScaleDenominator>
        <TopLeftCorner>420000 350000</TopLeftCorner>
        <TileWidth>256</TileWidth>
        <TileHeight>256</TileHeight>
        <MatrixWidth>19</MatrixWidth>
        <MatrixHeight>13</MatrixHeight>
      </TileMatrix>
      <TileMatrix>
        <ows:Identifier>3</ows:Identifier>
        <ScaleDenominator>178571.42857142858</ScaleDenominator>
        <TopLeftCorner>420000 350000</TopLeftCorner>
        <TileWidth>256</TileWidth>
        <TileHeight>256</TileHeight>
        <MatrixWidth>38</MatrixWidth>
        <MatrixHeight>25</MatrixHeight>
      </TileMatrix>
      <TileMatrix>
        <ows:Identifier>4</ows:Identifier>
        <ScaleDenominator>71428.57142857143</ScaleDenominator>
        <TopLeftCorner>420000 350000</TopLeftCorner>
        <TileWidth>256</TileWidth>
        <TileHeight>256</TileHeight>
        <MatrixWidth>94</MatrixWidth>
        <MatrixHeight>63</MatrixHeight>
      </TileMatrix>
      <TileMatrix>
        <ows:Identifier>5</ows:Identifier>
        <ScaleDenominator>35714.28571428572</ScaleDenominator>
        <TopLeftCorner>420000 350000</TopLeftCorner>
        <TileWidth>256</TileWidth>
        <TileHeight>256</TileHeight>
        <MatrixWidth>188</MatrixWidth>
        <MatrixHeight>125</MatrixHeight>
      </TileMatrix>
      <TileMatrix>
        <ows:Identifier>6</ows:Identifier>
        <ScaleDenominator>17857.14285714286</ScaleDenominator>
        <TopLeftCorner>420000 350000</TopLeftCorner>
        <TileWidth>256</TileWidth>
        <TileHeight>256</TileHeight>
        <MatrixWidth>375</MatrixWidth>
        <MatrixHeight>250</MatrixHeight>
      </TileMatrix>
      <TileMatrix>
        <ows:Identifier>7</ows:Identifier>
        <ScaleDenominator>8928.57142857143</ScaleDenominator>
        <TopLeftCorner>420000 350000</TopLeftCorner>
        <TileWidth>256</TileWidth>
        <TileHeight>256</TileHeight>
        <MatrixWidth>750</MatrixWidth>
        <MatrixHeight>500</MatrixHeight>
      </TileMatrix>
      <TileMatrix>
        <ows:Identifier>8</ows:Identifier>
        <ScaleDenominator>7142.857142857143</ScaleDenominator>
        <TopLeftCorner>420000 350000</TopLeftCorner>
        <TileWidth>256</TileWidth>
        <TileHeight>256</TileHeight>
        <MatrixWidth>938</MatrixWidth>
        <MatrixHeight>625</MatrixHeight>
      </TileMatrix>
      <TileMatrix>
        <ows:Identifier>9</ows:Identifier>
        <ScaleDenominator>5357.142857142858</ScaleDenominator>
        <TopLeftCorner>420000 350000</TopLeftCorner>
        <TileWidth>256</TileWidth>
        <TileHeight>256</TileHeight>
        <MatrixWidth>1250</MatrixWidth>
        <MatrixHeight>834</MatrixHeight>
      </TileMatrix>
      <TileMatrix>
        <ows:Identifier>10</ows:Identifier>
        <ScaleDenominator>3571.4285714285716</ScaleDenominator>
        <TopLeftCorner>420000 350000</TopLeftCorner>
        <TileWidth>256</TileWidth>
        <TileHeight>256</TileHeight>
        <MatrixWidth>1875</MatrixWidth>
        <MatrixHeight>1250</MatrixHeight>
      </TileMatrix>
      <TileMatrix>
        <ows:Identifier>11</ows:Identifier>
        <ScaleDenominator>1785.7142857142858</ScaleDenominator>
        <TopLeftCorner>420000 350000</TopLeftCorner>
        <TileWidth>256</TileWidth>
        <TileHeight>256</TileHeight>
        <MatrixWidth>3750</MatrixWidth>
        <MatrixHeight>2500</MatrixHeight>
      </TileMatrix>
      <TileMatrix>
        <ows:Identifier>12</ows:Identifier>
        <ScaleDenominator>892.8571428571429</ScaleDenominator>
        <TopLeftCorner>420000 350000</TopLeftCorner>
        <TileWidth>256</TileWidth>
        <TileHeight>256</TileHeight>
        <MatrixWidth>7500</MatrixWidth>
        <MatrixHeight>5000</MatrixHeight>
      </TileMatrix>
      <TileMatrix>
        <ows:Identifier>13</ows:Identifier>
        <ScaleDenominator>357.14285714285717</ScaleDenominator>
        <TopLeftCorner>420000 350000</TopLeftCorner>
        <TileWidth>256</TileWidth>
        <TileHeight>256</TileHeight>
        <MatrixWidth>18750</MatrixWidth>
        <MatrixHeight>12500</MatrixHeight>
      </TileMatrix>
      <TileMatrix>
        <ows:Identifier>14</ows:Identifier>
        <ScaleDenominator>178.57142857142858</ScaleDenominator>
        <TopLeftCorner>420000 350000</TopLeftCorner>
        <TileWidth>256</TileWidth>
        <TileHeight>256</TileHeight>
        <MatrixWidth>37500</MatrixWidth>
        <MatrixHeight>25000</MatrixHeight>
      </TileMatrix>
    </TileMatrixSet>
    <TileMatrixSet>
      <ows:Identifier>swissgrid_2056</ows:Identifier>
      <ows:SupportedCRS>urn:ogc:def:crs:EPSG::2056</ows:SupportedCRS>
      <TileMatrix>
        <ows:Identifier>0</ows:Identifier>
        <ScaleDenominator>1785714.285714286</ScaleDenominator>
        <TopLeftCorner>2420000 1350000</TopLeftCorner>
        <TileWidth>256</TileWidth>
        <TileHeight>256</TileHeight>
        <MatrixWidth>4</MatrixWidth>
        <MatrixHeight>3</MatrixHeight>
      </TileMatrix>
      <TileMatrix>
        <ows:Identifier>1</ows:Identifier>
        <ScaleDenominator>892857.142857143</ScaleDenominator>
        <TopLeftCorner>2420000 1350000</TopLeftCorner>
        <TileWidth>256</TileWidth>
        <TileHeight>256</TileHeight>
        <MatrixWidth>8</MatrixWidth>
        <MatrixHeight>5</MatrixHeight>
      </TileMatrix>
      <TileMatrix>
        <ows:Identifier>2</ows:Identifier>
        <ScaleDenominator>357142.85714285716</ScaleDenominator>
        <TopLeftCorner>2420000 1350000</TopLeftCorner>
        <TileWidth>256</TileWidth>
        <TileHeight>256</TileHeight>
        <MatrixWidth>19</MatrixWidth>
        <MatrixHeight>13</MatrixHeight>
      </TileMatrix>
      <TileMatrix>
        <ows:Identifier>3</ows:Identifier>
        <ScaleDenominator>178571.42857142858</ScaleDenominator>
        <TopLeftCorner>2420000 1350000</TopLeftCorner>
        <TileWidth>256</TileWidth>
        <TileHeight>256</TileHeight>
        <MatrixWidth>38</MatrixWidth>
        <MatrixHeight>25</MatrixHeight>
      </TileMatrix>
      <TileMatrix>
        <ows:Identifier>4</ows:Identifier>
        <ScaleDenominator>71428.57142857143</ScaleDenominator>
        <TopLeftCorner>2420000 1350000</TopLeftCorner>
        <TileWidth>256</TileWidth>
        <TileHeight>256</TileHeight>
        <MatrixWidth>94</MatrixWidth>
        <MatrixHeight>63</MatrixHeight>
      </TileMatrix>
      <TileMatrix>
        <ows:Identifier>5</ows:Identifier>
        <ScaleDenominator>35714.28571428572</ScaleDenominator>
        <TopLeftCorner>2420000 1350000</TopLeftCorner>
        <TileWidth>256</TileWidth>
        <TileHeight>256</TileHeight>
        <MatrixWidth>188</MatrixWidth>
        <MatrixHeight>125</MatrixHeight>
      </TileMatrix>
      <TileMatrix>
        <ows:Identifier>6</ows:Identifier>
        <ScaleDenominator>17857.14285714286</ScaleDenominator>
        <TopLeftCorner>2420000 1350000</TopLeftCorner>
        <TileWidth>256</TileWidth>
        <TileHeight>256</TileHeight>
        <MatrixWidth>375</MatrixWidth>
        <MatrixHeight>250</MatrixHeight>
      </TileMatrix>
      <TileMatrix>
        <ows:Identifier>7</ows:Identifier>
        <ScaleDenominator>8928.57142857143</ScaleDenominator>
        <TopLeftCorner>2420000 1350000</TopLeftCorner>
        <TileWidth>256</TileWidth>
        <TileHeight>256</TileHeight>
        <MatrixWidth>750</MatrixWidth>
        <MatrixHeight>500</MatrixHeight>
      </TileMatrix>
      <TileMatrix>
        <ows:Identifier>8</ows:Identifier>
        <ScaleDenominator>7142.857142857143</ScaleDenominator>
        <TopLeftCorner>2420000 1350000</TopLeftCorner>
        <TileWidth>256</TileWidth>
        <TileHeight>256</TileHeight>
        <MatrixWidth>938</MatrixWidth>
        <MatrixHeight>625</MatrixHeight>
      </TileMatrix>
      <TileMatrix>
        <ows:Identifier>9</ows:Identifier>
        <ScaleDenominator>5357.142857142858</ScaleDenominator>
        <TopLeftCorner>2420000 1350000</TopLeftCorner>
        <TileWidth>256</TileWidth>
        <TileHeight>256</TileHeight>
        <MatrixWidth>1250</MatrixWidth>
        <MatrixHeight>834</MatrixHeight>
      </TileMatrix>
      <TileMatrix>
        <ows:Identifier>10</ows:Identifier>
        <ScaleDenominator>3571.4285714285716</ScaleDenominator>
        <TopLeftCorner>2420000 1350000</TopLeftCorner>
        <TileWidth>256</TileWidth>
        <TileHeight>256</TileHeight>
        <MatrixWidth>1875</MatrixWidth>
